BEGIN:VCALENDAR
VERSION:2.0
PRODID:-//eventon.com NONSGML v1.0//EN
CALSCALE:GREGORIAN
METHOD:PUBLISH
BEGIN:VEVENT
UID:69e9b4fa43e89
DTSTAMP:20260423T055818Z
DTSTART:20221129T120500Z
DTEND:20221129T120500Z
LOCATION:
SUMMARY:PWS presentaties klas 6 (avond)
DESCRIPTION:PWS presentaties klas 6 (avond)\nhttps://www.jdw.nl/events/pws-
 presentaties-klas-6-avond/
URL:https://www.jdw.nl/events/pws-presentaties-klas-6-avond/
END:VEVENT
END:VCALENDAR