BEGIN:VCALENDAR
VERSION:2.0
PRODID:-//eventon.com NONSGML v1.0//EN
CALSCALE:GREGORIAN
METHOD:PUBLISH
BEGIN:VEVENT
UID:69e5fc6011b33
DTSTAMP:20260420T101352Z
DTSTART:20250509T153800Z
DTEND:20250523T153800Z
LOCATION:
SUMMARY:Centrale Examens
DESCRIPTION:Centrale Examens\nhttps://www.jdw.nl/events/centrale-examens/
URL:https://www.jdw.nl/events/centrale-examens/
END:VEVENT
END:VCALENDAR