BEGIN:VCALENDAR
VERSION:2.0
PRODID:-//eventon.com NONSGML v1.0//EN
CALSCALE:GREGORIAN
METHOD:PUBLISH
BEGIN:VEVENT
UID:69e5f67699d48
DTSTAMP:20260420T094838Z
DTSTART:20240119T154200Z
DTEND:20240119T154200Z
LOCATION:
SUMMARY:Gastles Economie\,  Beco\,  Maatschappijleer leerjaar 4\, 5 en 6
DESCRIPTION:Gastles Economie\,  Beco\,  Maatschappijleer leerjaar 4\, 5 en 
 6\nhttps://www.jdw.nl/events/gastles-economie-beco-maatschappijleer-leerjaa
 r-45-en-6/
URL:https://www.jdw.nl/events/gastles-economie-beco-maatschappijleer-leerjaar-45-en-6/
END:VEVENT
END:VCALENDAR